BEGIN:VCALENDAR
VERSION:2.0
PRODID:-//hacksw/handcal//NONSGML v1.0//EN
CALSCALE:GREGORIAN
BEGIN:VEVENT
DTEND:20250601T180000
UID:69ec98e0b3710
DTSTAMP:20260425T123512
LOCATION:Im Krausfeld 10\, 53111 Bonn
DESCRIPTION:Die Ausstellung Eigenmacht statt eingemacht von Petra Genster umkreist die Aspekte Weiblichkeit, Ermächtigung in das eigene Sein und die ökologische Verantwortung.\n\nIhre Kunst ist eindeutig feministisch. Daher ist das Frauenmuseum der Ort für diese Ausstellung.\n\nDie titelgebende Bodeninstallation aus etwa 50 Einmachgläser mit eingekochten Tomaten nimmt Bezug zum berühmten Tomatenwurf Ende der 1960er Jahre. Er löste die zweite Welle der Frauenbewegung aus.\n\nUntertitel der Ausstellung:\nMuss ich immer noch mit Tomaten werfen?\n\nDas Material der Installationen und Objekte sind Haushaltsgegenstände, Kleider, Textilien und Garne. Petra Genster stickt, näht, kocht ein und stellt alltägliche Dinge und Verrichtungen in den Mittelpunkt ihrer Kunst. Die Schale ist ein immer wiederkehrendes Motiv ihrer Installationen und Malerei. Die großformatige farbintensive Ölmalerei umkreist das Element Wasser. Aus den Wassern tauchen manchmal Berge auf, keine konkreten, eher archaische Seelenbilder. Die Installation Die ausgedehnte Macht des Wassers aus gebrauchter blauer Kleidung nimmt in der Ausstellung einen ganzen Raum ein. Erstmals 2017 zum Weltklimagipfel COP23 in Bonn gezeigt, stellt sie im Hinblick auf den COP30 2025 in Bélem die Frage : UND JETZT???\n\nDie Kunst von Petra Genster ist gesellschaftspolitisch ausgerichtet. Gleichzeitig bietet sie durch ihre Farbintensität und Spielfreude eine heitere und vertrauensvolle Begegnung mit dem Leben an. Das begleitende Programm ist eine Vernetzung mit verschiedenen Künsten und lädt die Besucherinnen zu vielfältigen Begegnungen und zum Austausch ein.
URL;VALUE=URI:
SUMMARY:EIGENMACHT statt eingemacht
DTSTART:20250406T080000
END:VEVENT
END:VCALENDAR