BEGIN:VCALENDAR
VERSION:2.0
PRODID:-//hacksw/handcal//NONSGML v1.0//EN
CALSCALE:GREGORIAN
BEGIN:VEVENT
DTEND:20251031T180000
UID:69e9f12de4bd2
DTSTAMP:20260423T121509
LOCATION:Eickser Straße\, 53894 Mechernich-Kommern
DESCRIPTION:Viele Menschen träumen vom eigenen Garten. Gartenratgeber versprechen noch auf dem kleinsten Balkon Blumenträume wahr werden zu lassen und durch Permakultur unabhängig vom Supermarkt zu werden. Schottergärten spalten die Nation und für jeden floralen Wunschtraum gibt es Ratgeber und das passende Handwerkszeug. Während Vorgärten stolz präsentiert werden, schirmen meterhohe Blickschutzhecken oder Steinmauern die Gärten hinter dem Haus ab.\n\nDas Thema Garten und Freilichtmuseum scheint offensichtlich zusammenzuhängen. Werden doch im Gelände verschiedenste Gartenformen vom „Bauerngarten“ über den repräsentativen Park bis hin zum Erholungsgarten der neuesten Zeit gezeigt. Die Ausstellung „Wink mit dem Zaunpfahl – offenSichtlich geht es um Gärten“ geht weiter, als Nutzgärten mit Ziergärten zu vergleichen und über historisches und regionales Saatgut aufzuklären. Bei dieser Ausstellung stehen nicht alleine die Gärten im Vordergrund, sondern die Menschen, die sie bewohnen. Welche sozialen Regeln gelten in unseren grünen Wohnzimmern? Was präsentieren sie über niedrige Gärtenzäune hinweg und was halten sie vielleicht hinter 2 Meter hohen Sichtschutzwänden verborgen? Was soll sichtbar, was soll unsichtbar sein? Und wie hat sich der Blick auf die Gärten im Laufe der Geschichte verändert? \n
URL;VALUE=URI:
SUMMARY:Wink mit dem Zaunpfahl – offenSichtlich geht es um Gärten
DTSTART:20240707T080000
END:VEVENT
END:VCALENDAR