BEGIN:VCALENDAR
VERSION:2.0
PRODID:-//hacksw/handcal//NONSGML v1.0//EN
CALSCALE:GREGORIAN
BEGIN:VEVENT
DTEND:20241020T180000
UID:69eb004fbc37b
DTSTAMP:20260424T073159
LOCATION:Merscheider Str. 289-297\, 42699 Solingen
DESCRIPTION:Arbeit in der Zukunft – wie sieht die aus? Vier-Tage-Woche oder Vollzeit-Job? Home-Office, Dienstreisen oder gleich Remote-Arbeit aus dem Ausland? Manueller Schraubendreher oder KI-gesteuerter Roboterarm? Wer bestimmt darüber, wie wir arbeiten und: Wofür machen wir das eigentlich?\n\nDie Geschichte der Arbeiterbewegung, von Protesten, Streiks, Reformen und Revolutionen zeigt, dass wir einen Einfluss auf unsere Arbeitsbedingungen haben. Wie die Generationen vor uns können auch wir unsere eigene Zukunft gestalten. Ob sie eine Bereicherung oder Bedrohung für die Arbeitswelt bringt, liegt also auch in den Händen der Ausstellungsbesucher*innen.\n\nIn „Arbeits[T]räume“ erwartet die Besucher*innen daher keine wissenschaftliche Rundumerzählung, sondern ein Zukunftslabor zum Mitdenken, Mitreden und Mitgestalten. Hier ist Platz, um Ideen zu entwickeln, Themen zu erforschen und unterschiedliche Perspektiven aufzuwerfen: In sechs interaktiven Arbeitsräumen gibt es jede Menge Möglichkeiten, sich selbst einzubringen, die eigene Meinung zu hinterlassen und sich mit anderen auszutauschen.\n\nDabei geben einzelne Beispiele zur Arbeit in Vergangenheit und Gegenwart sowie Objekte, Interviews und vieles mehr Denkanstöße. Über allem erklingt eine eigens für die Ausstellung komponierte „Zukunftsmusik“.\n\nBereits in der Vorbereitung hat das Ausstellungsteam Menschen aus Solingen und dem Umfeld des Museums eingeladen, sich an dem Projekt zu beteiligen. Das Zukunftslabor entwickelt sich vom Anfang bis zum Ende weiter – durch die Mitarbeit der Besucher*innen. Ziel ist es, im breiten Dialog eine gemeinsame Vision zu entwickeln, wie eine gute Arbeitswelt der Zukunft aussehen könnte.\n\nWährend der Laufzeit von „Arbeits[T]räume – ein Zukunftslabor“ enden alle Museumsführungen für Erwachsene in der Sonderausstellung.
URL;VALUE=URI:
SUMMARY:ARBEITS[T]RÄUME. Ein Zukunftslabor
DTSTART:20240124T080000
END:VEVENT
END:VCALENDAR