BEGIN:VCALENDAR
VERSION:2.0
PRODID:-//hacksw/handcal//NONSGML v1.0//EN
CALSCALE:GREGORIAN
BEGIN:VEVENT
DTEND:20240528T180000
UID:69e55169d7204
DTSTAMP:20260420T000425
LOCATION:Im Krausfeld 10\, 53111 Bonn
DESCRIPTION:Als Startschuss der ersten Frauenbewegung gilt die Gründung des Allgemeinen Deutschen Frauenvereins 1865, der sich das Recht auf Bildung und Erwerbsarbeit auf die Fahnen schrieb. Um 1900 nahmen fortschrittliche Frauenrechtlerinnen einen weiteren Schwerpunkt in den Katalog ihrer Forderungen: das aktive und passive Wahlrecht. \n\nDie „Neue“ Frauenbewegung entstand im Kontext breiter Proteste gegen den §218. Junge Frauen aus der ganzen BRD schlossen sich zusammen, um für Selbstbestimmung, das Recht auf ihren Körper, eine Frauenöffentlichkeit und gegen Gewalt von Männern zu kämpfen. \n\nSeit der Jahrtausendwende entwickelte sich eine dritte feministische Welle. Ausgehend von der Dekonstruktion der biologischen Geschlechter plädiert sie für plurale Genderkonzepte und selbstbestimmte geschlechtliche Identitäten.
URL;VALUE=URI:
SUMMARY:Frauenbewegungen 1865 _ 1971 _ 2006
DTSTART:20240308T080000
END:VEVENT
END:VCALENDAR