BEGIN:VCALENDAR
VERSION:2.0
PRODID:-//hacksw/handcal//NONSGML v1.0//EN
CALSCALE:GREGORIAN
BEGIN:VEVENT
DTEND:20240623T180000
UID:69e6cadd8a8e2
DTSTAMP:20260421T025453
LOCATION:Tiergartenstr. 41\, 47533 Kleve
DESCRIPTION:Jan Baegert (um 1465–nach 1535), ein Zeitgenosse Cranachs und Dürers, gehörte zu den bedeutendsten Malerpersönlichkeiten der niederrheinischen Kunstlandschaft um 1500. An der Wende vom Mittelalter zur Neuzeit schuf er ein beeindruckendes künstlerisches Œuvre, das ihn als begabten Maler mit geradezu psychologischer Einfühlungskraft auszeichnet und mit dem er seinem berühmteren Vater Derick (um 1440–nach 1509/um 1515) in nichts nachsteht. Dass Jans Name heute weniger bekannt ist als der seines Vaters, ist der ungeheuren Tatsache geschuldet, dass seine Werke im 19. Jahrhundert zerstückelt wurden, um mit den Fragmenten auf dem Kunstmarkt mehr Geld zu erzielen. \n\nDie Ausstellung „Schönheit & Verzückung“ führt erstmals mehrere Fragmente wieder zusammen und stellt das Werk des Sohnes in den direkten Vergleich mit dem des Vaters. Zu sehen sein werden nicht nur zehn exquisite Tafelbilder von Jan Baegert und viele Werke des 15., 16. und 17. Jh. vom Niederrhein aus der eigenen Sammlung, sondern auch ca. 20 kostbare Originale aus weiteren Museen in Deutschland und den Niederlanden sowie ca. 20 hochwertige Digitalisate von Werken weiterer Museen in Europa und Amerika. Auf diese Weise wird sogar der monumentale, acht Meter breite Hochaltar des Derick Baegert aus der Propsteikirche in Dortmund in der Ausstellung zu sehen sein – der den Proportionen der Altäre des Sohnes entspricht, die zerstört wurden. \n\nEine einzige zeitgenössische Arbeit ergänzt die mittelalterliche Präsentation: Die Skulptur eines gekreuzigten Frosches von Martin Kippenberger (1953–1997) zeigt, dass die gegenwärtige Kunstwelt einen sehr viel komplexeren Umgang mit der Institution Kirche pflegt als es im Mittelalter möglich war. \n\nDie Ausstellung im Museum Kurhaus Kleve eröffnet am Sonntag, den 24. März 2024 um 11.30 Uhr. Dabei wird u.a. ein begleitender Kunstfilm des chinesischen Künstlers und Filmemachers Shuchang Xie uraufgeführt. Zur Eröffnung erscheint ein 340-seitiger Ausstellungskatalog mit u.a. Beiträgen der Kuratorin Valentina Vlasic, der Mittelalter-Expertin vom LWL-Landesmuseum Münster, Petra Marx, des Baegert-Spezialisten und ehem. Weseler Archivleiters Martin W. Roelen, des Direktors des Erzbischöflichen Diözesanmuseums Paderborn, Holger Kempkens, und mehr. Er stellt eine erste maßgebliche Publikation über das Leben und Werk des Jan Baegert seit über fünfzig Jahren statt. \n
URL;VALUE=URI:
SUMMARY:Schönheit & Verzückung. Jan Baegert und die Malerei des Mittelalters
DTSTART:20240324T080000
END:VEVENT
END:VCALENDAR