BEGIN:VCALENDAR
VERSION:2.0
PRODID:-//hacksw/handcal//NONSGML v1.0//EN
CALSCALE:GREGORIAN
BEGIN:VEVENT
DTEND:20240621T130000
UID:69e89523cc344
DTSTAMP:20260422T113011
LOCATION:Austraße 9\, 52156 Monschau
DESCRIPTION:Vernissage der Ausstellung „Sie muss nicht immer schillernd sein. Modefotografie“ im Bürgersaal Austraße 7 in Monschau.
URL;VALUE=URI:
SUMMARY:Vernissage
DTSTART:20240621T120000
END:VEVENT
END:VCALENDAR