BEGIN:VCALENDAR
VERSION:2.0
PRODID:-//hacksw/handcal//NONSGML v1.0//EN
CALSCALE:GREGORIAN
BEGIN:VEVENT
DTEND:20240929T180000
UID:69e5b8dfa7f93
DTSTAMP:20260420T072551
LOCATION:Am Obertor\, 41460 Neuss
DESCRIPTION:Juli 1474: 14.000 Ritter und Soldaten aus Frankreich, Belgien, Italien, England und den Niederlanden umzingeln Neuss. Eine der größten Belagerungen des Mittelalters beginnt. Die Angreifer beschießen Neuss mit einer hochmodernen Artillerie und versuchen immer wieder, die Stadt zu erstürmen. Erst zehn Monate später beendet das Reichsheer unter Führung des deutschen Kaisers Friedrich III. die Belagerung.\n\nAuslöser für die Belagerung war ein Streit um den Thron des Kölner Erzbischofs. Der abgesetzte Bischof Ruprecht von der Pfalz hatte Karl den Kühnen, den mächtigen Herzog von Burgund, zur Hilfe gerufen. Dieser wollte Neuss erobern, da die Stadt auf der Seite Hermanns von Hessen, Ruprechts Gegner, stand.\n\nNeuss war damals eine kleine, aber stark befestigte Stadt. Wie seine etwa 4.000 Einwohner lebten, zeigen archäologische Funde aus Neusser Bürgerhäusern, Klöstern und Burgen.\n\nIn Europa einzigartige Artefakte von dem mittelalterlichen Schlachtfeld aus Neuss - darunter Helme, Schwerteer, Steigbügel oder Kanonenkugeln - Zeugen von den harten Kämpfen. Sie werden erstmals vollständig in einer Ausstellung zu sehen sein.
URL;VALUE=URI:
SUMMARY:Neuss 1474. Die Belagerung durch Karl den Kühnen
DTSTART:20240414T080000
END:VEVENT
END:VCALENDAR