BEGIN:VCALENDAR
VERSION:2.0
PRODID:-//hacksw/handcal//NONSGML v1.0//EN
CALSCALE:GREGORIAN
BEGIN:VEVENT
DTEND:20240714T180000
UID:69e86148a51e0
DTSTAMP:20260422T074856
LOCATION:Grabenstr. 21\, 40878 Ratingen
DESCRIPTION:Alle zwei Jahre schreibt das Amt für Kultur und Tourismus des Kreises Mettmann einen künstlerischen Wettbewerb aus. Dieser richtet sich in erster Linie an professionelle bildende Künstlerinnen und Künstler, die im ‚neanderland‘ leben, arbeiten oder eine andere enge Bindung an den Kreis haben. Die Auswahl der Jury erfolgt aus einem weiten Spektrum von Gemälden, Fotografien und Skulpturen bis hin zu medialen Arbeiten und zeigt somit einen Querschnitt der aktuellen kreisweiten Kunstszene. Im Jahr 2024 wird die Schau nach sechs Jahren wieder im Museum Ratingen präsentiert
URL;VALUE=URI:
SUMMARY:neanderland ART 24
DTSTART:20240426T080000
END:VEVENT
END:VCALENDAR