BEGIN:VCALENDAR
VERSION:2.0
PRODID:-//hacksw/handcal//NONSGML v1.0//EN
CALSCALE:GREGORIAN
BEGIN:VEVENT
DTEND:20240901T180000
UID:69e8b1f312e1f
DTSTAMP:20260422T133307
LOCATION:Am Museum\, 47623 Kevelaer
DESCRIPTION:Im Jahr 1911 in Weeze geboren begann Hans Mennekes mit 15 Jahren seine Lehre in der Glasmalerei-Werkstatt Hein Derix in Kevelaer, die er 1929 abschloss. Ab dem Folgejahr besuchte er die Kunstgewerbeschule in Krefeld. So erweiterte er seine kunsthandwerklichen Erfahrungen durch künstlerische Techniken, wie das Zeichnen. Sein Austausch mit Professoren und anderen Künstlern, wie auch seine späteren Freundschaften mit (Kunst-) Handwerkern der Region haben ihn nicht nur geprägt, sondern ihm zudem kreative Impulse geliefert.\n\nBei der Betrachtung seiner künstlerischen Entwicklung fällt der Weg von einer klassischen Formensprache hin zu einer Abstraktion derselben auf. Auch wenn seine Ursprünge der Glasmalerei gerne durch flächenhafte Einteilung des Motives immer wieder in seinen Entwürfen und Kunstwerken zu finden sind.\nDer Verlust seines linken Arms im Zweiten Weltkrieg hat Mennekes nicht davon abgehalten zu arbeiten und brachte vielleicht eine weitere Dimension einer Anpassung in sein Werk. Ebenso trug seine Frau Maria dazu bei, indem sie ihm zum Beispiel beim Anmischen der Farben half.\n\nAuffällig ist das große Repertoire, das sich in den verschiedenen handwerklichen Techniken und Objektarten widerspiegelt und seiner Kreativität nur noch mehr Ausdruck verleiht. Viele seiner Freunde und Bekannten, wie auch seiner Familie, profitierten davon und dürfen sich noch heute an einem Werk von Mennekes an der Wand oder im Fenster erfreuen.\n\nDie ausgestellten Arbeiten im Niederrheinischen Museum sind zum größten Teil aus dem Besitz der Gemeinde Weeze und nur wenigen Arbeiten stammen aus Privatbesitz. Sie zeigen die Bandbreite der Fähigkeiten dieses Künstlers, der 1983 in Weeze verstarb.
URL;VALUE=URI:
SUMMARY:Hans Mennekes – Sein Lebenswerk
DTSTART:20240505T080000
END:VEVENT
END:VCALENDAR