BEGIN:VCALENDAR
VERSION:2.0
PRODID:-//hacksw/handcal//NONSGML v1.0//EN
CALSCALE:GREGORIAN
BEGIN:VEVENT
DTEND:20240629T180000
UID:69ed01e4487f7
DTSTAMP:20260425T200316
LOCATION:Freudenthal 68\, 51375 Leverkusen-Schlebusch
DESCRIPTION:Wie werden Räume wahrgenommen und erfasst? Welche Verbindungen bestehen zwischen Innerem und Äußerem, und zwar über das bloße Sehen hinaus? Können Räume transzendent sein, vor allem dann, wenn sie ihrer eigentlichen Funktion visuell oder tatsächlich enthoben sind? Welche Wahrnehmung haben wir dann, und welche Erkenntnisse können wir daraus gewinnen?\n\nDie Ausstellung wird drei Serien mit Malerei / Zeichnung / Fotografie sowie eine Videoarbeit enthalten. Verbindendes Thema aller Arbeiten ist die Wahrnehmung von Räumen, die einer gewohnten Sichtweise entzogen werden und somit visuell neu zu erfahren sind.\n\nDie erste Serie, die den Schwerpunkt der Ausstellung bildet, beschäftigt sich mit der Wahrnehmung von Museumsräumen. Was passiert, wenn diese Orte höchster wissenschaftlicher Präzision und Genauigkeit nur noch als Raum an sich wahrgenommen werden, ja dieser Raum im Weiteren aufgehoben und nahezu vollständig von seiner eigentlichen Bestimmung gelöst wird. Wie verändern sich die Wahrnehmung und der Blick auf diese Räume dann?\n\nErgänzt wird die Serie durch eine Videoarbeit, die diese Thematik mit den Möglichkeiten des Films wieder aufnimmt.\n\nDie zweite Serie richtet den Blick auf Kirchenräume, bei der sich jedoch eine andere Thematik ergibt: Hier soll die Aufhebung der Genauigkeit nicht nur eine neue Wahrnehmung ermöglichen, sondern auch die spirituelle, transzendente Wirkung von sakralen Räumen thematisieren.\n\nEine dritte Serie richtet den Blick auf die Industriearchitektur des Ruhrgebiets. Sie vereint mit Fotografie und Malerei verschiedene Techniken. Auch hier ist die Genauigkeit aufgehoben. Allerdings spielt nun das Verlassen der Arbeit, der Verlust der ursprünglichen Funktion eine wesentliche Rolle.
URL;VALUE=URI:
SUMMARY:über räume
DTSTART:20240512T080000
END:VEVENT
END:VCALENDAR