BEGIN:VCALENDAR
VERSION:2.0
PRODID:-//hacksw/handcal//NONSGML v1.0//EN
CALSCALE:GREGORIAN
BEGIN:VEVENT
DTEND:20230423T180000
UID:69e98454c1599
DTSTAMP:20260423T043044
LOCATION:Ehrenhof 4-5\, 40479 Düsseldorf
DESCRIPTION:Daten und Pixel, Algorithmen und Kalkulationen: Das sind die Elemente, aus denen Refik Anadol seine ästhetischen Datenskulpturen kreiert. Anadol ist ein Pionier auf dem Gebiet der künstlichen Intelligenz.\n\nDer Kunstpalast präsentiert Anadols monumentale Datenskulptur „Machine Hallucinations – Satellite Simulations: B“ von 2021. Für diese Arbeit wurden über zwei Millionen Bilder verwendet, die von Weltraumteleskopen erfasst wurden. Algorithmen produzieren aus diesen Bildern eine neue Ästhetik. \n
URL;VALUE=URI:
SUMMARY:Refik Anadol Machine Hallucinations
DTSTART:20230308T080000
END:VEVENT
END:VCALENDAR