BEGIN:VCALENDAR
VERSION:2.0
PRODID:-//hacksw/handcal//NONSGML v1.0//EN
CALSCALE:GREGORIAN
BEGIN:VEVENT
DTEND:20230227T180000
UID:69e5367b56f3c
DTSTAMP:20260419T220931
LOCATION:Berger Allee 2\, 40213 Düsseldorf
DESCRIPTION:Vom 13. Januar bis zum 27. Februar 2023 präsentieren die Keyworker des Stadtmuseums Düsseldorf, Berger Allee 2, rund 100 Fotos, Aquarelle, Acryltechniken, sowie Statements von Düsseldorfer Bürgerinnen und Bürgern zum Thema "Farben der Stadt". Die Ausstellungseröffnung findet am Freitag, 13. Januar, um 18 Uhr statt.\n\nDie Frage, die sich die ehrenamtlich Tätigen im Rahmen ihres aktuellen Projektes gestellt haben, war: Welche Farbe(n) hat unsere Stadt Düsseldorf? Hierauf geben die Keyworker ihre persönlichen Antworten und präsentieren ihre Ergebnisse in Form von Fotos, digitalen und künstlerischen Darstellungen:\n\nfotografisch: Das Spektrum reicht von rheinischem Frohsinn über Fassadenmalerei bis hin zum Stadtgrün. Darüber hinaus wird eine Videoinstallation mit einem spektakulären Fensterblick auf den wohl schönsten Teil Düsseldorfs gezeigt. \nkünstlerisch: Die Farbpalette ist üppig und reicht vom zarten Aquarellton bis zum kräftigen Pinselstrich in Ölfarbe. Die bunte Vielfalt der Stadt von realistisch bis abstrakt – leidenschaftlich gestaltet. \nliterarisch: Personen aus der heutigen Stadtgesellschaft wurden gebeten, ebenfalls ihre Antwort auf die Frage zu geben, welche Farben Düsseldorf hat. Diese lesenswerten Beiträge werden als Ergänzung zu den Exponaten gezeigt. \n\nKeywork im Stadtmuseum \nDie Keyworker des Stadtmuseums beteiligen sich an den Ausstellungen des Hauses oder entwickeln eigene (Ausstellungs-)Projekte mit Unterstützung der wissenschaftlichen Mitarbeitenden des partizipativen Museums. Sie prägen das Stadtmuseum als Bürgerinnen und Bürger und werden in ihrem geschichtlichen und künstlerischen Interesse gefördert. Ihre Projekte ermöglichen den Zugang zu stadtgeschichtlichen Themen mit den Mitteln der Kunst und Kultur.\n
URL;VALUE=URI:
SUMMARY:Farben der Stadt
DTSTART:20230113T080000
END:VEVENT
END:VCALENDAR