BEGIN:VCALENDAR
VERSION:2.0
PRODID:-//hacksw/handcal//NONSGML v1.0//EN
CALSCALE:GREGORIAN
BEGIN:VEVENT
DTEND:20221218T180000
UID:69e5841d988b8
DTSTAMP:20260420T034045
LOCATION:Austraße 9\, 52156 Monschau
DESCRIPTION:Was verbindet Venedig, Berlin und Monschau? Alle drei Städte sind am Wasser zu Hause. Venedig wurde inmitten der Lagune eines flachen Binnenmeers erbaut, Berlin liegt an der Spree und Monschau bekanntlich an der Rur. Zudem gelten alle drei Städte als touristische Attraktion, auch wenn Monschau natürlich bei Weitem weniger bekannt ist. \nDie Fotografin Katharina John und ihr Mann, der Schauspieler und Musiker Ulrich Tukur, wohnen und leben abwechselnd in Venedig und Berlin. Monschau haben sie auf Einladung der StädteRegion Aachen im Rahmen eines Stipendiums des Fotografie-Forums kennengelernt und sich gemeinsam der Stadt angenähert.  \n \nKatharina John und Ulrich Tukur begaben sich auf die Suche nach Brücken zwischen Illusion und tatsächlichem Dasein. Was Katharina John mit ihren fotografischen Porträts herausgefunden hat, ergänzt und erweitert Ulrich Tukur durch Texte und Tonaufnahmen. \n
URL;VALUE=URI:
SUMMARY:Berlin-Venedig-Monschau. Illusionen Fotografien von Katharina John\; Texte\, Tonaufnahmen und Musik von Ulrich Tukur
DTSTART:20221023T080000
END:VEVENT
END:VCALENDAR