BEGIN:VCALENDAR
VERSION:2.0
PRODID:-//hacksw/handcal//NONSGML v1.0//EN
CALSCALE:GREGORIAN
BEGIN:VEVENT
DTEND:20221006T183000
UID:69e7e8afafeba
DTSTAMP:20260421T231423
LOCATION:Hochstadenring 36\, 53119 Bonn
DESCRIPTION:KUNSTGESPRÄCHE AM DONNERSTAG: SIE FRAGEN – WIR ANTWORTEN!\nPaul Adolf Seehaus – August Mackes erster und einziger Meisterschüler\nmit Dr. Klara Drenker-Nagels\n5,00 € pro Person pro Termin zzgl. Eintritt\n
URL;VALUE=URI:
SUMMARY:KUNSTGESPRÄCHE AM DONNERSTAG: SIE FRAGEN – WIR ANTWORTEN!
DTSTART:20221006T173000
END:VEVENT
END:VCALENDAR