BEGIN:VCALENDAR
VERSION:2.0
PRODID:-//hacksw/handcal//NONSGML v1.0//EN
CALSCALE:GREGORIAN
BEGIN:VEVENT
DTEND:20221003T180000
UID:69e7a73e23f14
DTSTAMP:20260421T183510
LOCATION:Helmut-Kohl-Allee 4\, 53113 Bonn
DESCRIPTION:Sammlung zeitgenössischer Kunst der Bundesrepublik Deutschland\nAnkäufe von 2017 bis 2021, Ankäufe NEUSTART KULTUR 2020 bis 2021\n\nDie Bundeskunsthalle zeigt regelmäßig Ausstellungen mit Werken aus der \nSammlung des Bundes. Auch die neue Ausstellung präsentiert ausgewählte \nArbeiten, die innerhalb der fünfjährigen Tätigkeit (2017–2021) von einer \nehrenamtlichen Fachkommission für die Sammlung der Bundesrepublik \nDeutschland angekauft worden sind. Zusätzlich kommen dieses Mal Ankäufe \nhinzu, die mit Mitteln von NEUSTART KULTUR von einer weiteren \nAnkaufskommission erworben werden konnten. Das kuratorische Konzept \nwurde im kollaborativen Prozess von zwölf Kurator*innen unter Moderation der \nBundeskunsthalle entwickelt.\nDas Team verspricht sich von der Durchmischung der beiden Ankaufskonvolute \neine größtmögliche Aktualität und einen repräsentativen Querschnitt der \nzeitgenössischen, mitunter auch sehr jungen Produktion. Für die dialogische \nKonzeption der Ausstellung sind Themen und Cluster wie zeitgenössische \npolitische und gesellschaftliche Relevanz, postkolonialer Diskurs, \nPosthumanität, Geschichtskonstruktionen, Urbanität oder auch eine \nwerkimmanente Bildästhetik maßgeblich. \nDie Ausstellung trägt der im zeitgenössischen Kontext relevanten Sammlung des \nBundes Rechnung und veranschaulicht, wie historische und aktuelle \nEntwicklungen, kollektive Sehgewohnheiten oder Hinterfragungen von \nBildkonstruktionen künstlerisch und modellhaft umgesetzt werden. Die Auswahl \nder Werke macht deutlich, dass die gegenwärtigen künstlerischen \nAusdrucksformen eine breite Palette an Techniken und Medien umfassen – von \nraumgreifenden Installationen, Zeichnung, Malerei und Skulptur bis hin zu \nFotografie, Video und akustischen Arbeiten.\nEine Ausstellung der Kunst- und Ausstellungshalle der Bundesrepublik \nDeutschland in Zusammenarbeit mit der Beauftragten der Bundesregierung für \nKultur und Medien (BKM).\nKurator*innen: Ein Team aus Mitgliedern der Ankaufskommissionen zusammen \nmit Susanne Kleine
URL;VALUE=URI:
SUMMARY:Identität nicht nachgewiesen
DTSTART:20220507T080000
END:VEVENT
END:VCALENDAR